BEGIN:VCALENDAR
VERSION:2.0
PRODID:-//Blue Green Future - ECPv6.15.20//NONSGML v1.0//EN
CALSCALE:GREGORIAN
METHOD:PUBLISH
X-WR-CALNAME:Blue Green Future
X-ORIGINAL-URL:https://bluegreenfuture.org
X-WR-CALDESC:Events for Blue Green Future
REFRESH-INTERVAL;VALUE=DURATION:PT1H
X-Robots-Tag:noindex
X-PUBLISHED-TTL:PT1H
BEGIN:VTIMEZONE
TZID:UTC
BEGIN:STANDARD
TZOFFSETFROM:+0000
TZOFFSETTO:+0000
TZNAME:UTC
DTSTART:20190101T000000
END:STANDARD
END:VTIMEZONE
BEGIN:VEVENT
DTSTART;TZID=UTC:20220917T080000
DTEND;TZID=UTC:20220917T170000
DTSTAMP:20260423T101427
CREATED:20220907T233452Z
LAST-MODIFIED:20220907T233452Z
UID:3395-1663401600-1663434000@bluegreenfuture.org
SUMMARY:TedX Fiesole
DESCRIPTION:
URL:https://bluegreenfuture.org/event/tedx-fiesole/
LOCATION:ROMAN THEATRE OF FIESOLE\, Florence\, Italy
END:VEVENT
BEGIN:VEVENT
DTSTART;TZID=UTC:20210118T080000
DTEND;TZID=UTC:20210118T170000
DTSTAMP:20260423T101427
CREATED:20210118T183048Z
LAST-MODIFIED:20210118T183048Z
UID:290-1610956800-1610989200@bluegreenfuture.org
SUMMARY:Thunderbird/GW
DESCRIPTION:
URL:https://bluegreenfuture.org/event/thunderbird-gw/
END:VEVENT
BEGIN:VEVENT
DTSTART;TZID=UTC:20201123T080000
DTEND;TZID=UTC:20201123T170000
DTSTAMP:20260423T101427
CREATED:20210129T011059Z
LAST-MODIFIED:20210129T011059Z
UID:401-1606118400-1606150800@bluegreenfuture.org
SUMMARY:Rethinking Capitalism: Valuing Nature: Whales\, Elephants\, and the Global Economy
DESCRIPTION:Webinar hosted by Institute for International Economic Policy.
URL:https://www.youtube.com/watch?v=a732LUKw3aE&#038;feature=youtu.be#new_tab
CATEGORIES:Webinar
END:VEVENT
BEGIN:VEVENT
DTSTART;TZID=UTC:20201007T080000
DTEND;TZID=UTC:20201007T170000
DTSTAMP:20260423T101427
CREATED:20210129T013114Z
LAST-MODIFIED:20210129T013114Z
UID:403-1602057600-1602090000@bluegreenfuture.org
SUMMARY:Valuing Natural Capital – The Blue Boat Initiative
DESCRIPTION:Valuing natural capital: The Blue Boat Initiative\nWith Dr Ralph Chami\, International Monetary Fund (IMF)\, and Patricia Morales from Filantropia Cortes Solari\nModeration: Dr Marianne Schörling\, Dr Daniel Samaan\nBrought to you by the Geneva Macro Labs
URL:https://www.gapeli.org/channel/video/id/602#new_tab
CATEGORIES:Webinar
END:VEVENT
BEGIN:VEVENT
DTSTART;TZID=UTC:20200623T080000
DTEND;TZID=UTC:20200623T170000
DTSTAMP:20260423T101427
CREATED:20210129T013412Z
LAST-MODIFIED:20210129T013412Z
UID:404-1592899200-1592931600@bluegreenfuture.org
SUMMARY:Capital Hill Ocean Week: June 2020
DESCRIPTION:Changing Climate/Changing Strategies
URL:https://www.youtube.com/watch?v=F2Jp3zc6qH8&#038;feature=youtu.be#new_tab
CATEGORIES:Webinar
END:VEVENT
END:VCALENDAR